BEGIN:VCALENDAR
VERSION:2.0
PRODID:-//Brahma Kumaris Bhavnagar - ECPv4.9.3.2//NONSGML v1.0//EN
CALSCALE:GREGORIAN
METHOD:PUBLISH
X-WR-CALNAME:Brahma Kumaris Bhavnagar
X-ORIGINAL-URL:https://bhavnagar.bk.ooo
X-WR-CALDESC:Events for Brahma Kumaris Bhavnagar
BEGIN:VEVENT
DTSTART;TZID=UTC+0:20231224T173000
DTEND;TZID=UTC+0:20231224T183000
DTSTAMP:20260422T023650
CREATED:20240117T051834Z
LAST-MODIFIED:20240117T051939Z
UID:444-1703439000-1703442600@bhavnagar.bk.ooo
SUMMARY:VIBRANT BHAVNAGAR 2030 OF BUSINESS EXPO
DESCRIPTION:Stress-free Business Management Spee    Speech of Respected Ashadidiji \n
URL:https://bhavnagar.bk.ooo/event/vibrant-bhavnagar-2030-of-business-expo/
LOCATION:જવાહર મેદાન\,રિલાયન્સ મોલ ની સામે\,ભાવનગર\, ભાવનગર\, GUJARAT\, 364002\, India
ORGANIZER;CN="BRAHMAKUMARIS":MAILTO:bhavnagar@bkivv.org
END:VEVENT
END:VCALENDAR